BEGIN:VCALENDAR
VERSION:2.0
PRODID:-//VNC - ECPv6.15.20//NONSGML v1.0//EN
CALSCALE:GREGORIAN
METHOD:PUBLISH
X-WR-CALNAME:VNC
X-ORIGINAL-URL:https://vnconline.nl
X-WR-CALDESC:Evenementen voor VNC
REFRESH-INTERVAL;VALUE=DURATION:PT1H
X-Robots-Tag:noindex
X-PUBLISHED-TTL:PT1H
BEGIN:VTIMEZONE
TZID:Europe/Amsterdam
BEGIN:DAYLIGHT
TZOFFSETFROM:+0100
TZOFFSETTO:+0200
TZNAME:CEST
DTSTART:20250330T010000
END:DAYLIGHT
BEGIN:STANDARD
TZOFFSETFROM:+0200
TZOFFSETTO:+0100
TZNAME:CET
DTSTART:20251026T010000
END:STANDARD
BEGIN:DAYLIGHT
TZOFFSETFROM:+0100
TZOFFSETTO:+0200
TZNAME:CEST
DTSTART:20260329T010000
END:DAYLIGHT
BEGIN:STANDARD
TZOFFSETFROM:+0200
TZOFFSETTO:+0100
TZNAME:CET
DTSTART:20261025T010000
END:STANDARD
BEGIN:DAYLIGHT
TZOFFSETFROM:+0100
TZOFFSETTO:+0200
TZNAME:CEST
DTSTART:20270328T010000
END:DAYLIGHT
BEGIN:STANDARD
TZOFFSETFROM:+0200
TZOFFSETTO:+0100
TZNAME:CET
DTSTART:20271031T010000
END:STANDARD
END:VTIMEZONE
BEGIN:VEVENT
DTSTART;TZID=Europe/Amsterdam:20260422T143000
DTEND;TZID=Europe/Amsterdam:20260422T153000
DTSTAMP:20260420T113916
CREATED:20260415T122405Z
LAST-MODIFIED:20260415T122405Z
UID:10000317-1776868200-1776871800@vnconline.nl
SUMMARY:KLM digitale leden infosessie
DESCRIPTION:Meld je aan voor KLM infosessies\nDe komende tijd organiseren we regelmatig infosessies om jullie bij te praten over de actualiteit en de impact op jouw werk. Tijdens deze sessies is ruimte om vragen te stellen en ervaringen te delen. Wil je aanwezig zijn? Meld je dan aan voor een van onze infosessies via deze link.
URL:https://vnconline.nl/event/klm-digitale-leden-infosessie/
END:VEVENT
BEGIN:VEVENT
DTSTART;TZID=Europe/Amsterdam:20260428T140000
DTEND;TZID=Europe/Amsterdam:20260428T150000
DTSTAMP:20260420T113916
CREATED:20260410T091423Z
LAST-MODIFIED:20260410T091423Z
UID:10000316-1777384800-1777388400@vnconline.nl
SUMMARY:KLC leden infosessie thema: stand van zaken algemeen
DESCRIPTION:Sluit aan bij één van onze info-sessies.\nDe eerstvolgende staan gepland op 16 en 28 april\, daarvoor kan je je inschrijven via deze link.
URL:https://vnconline.nl/event/klc-leden-infosessie-thema-stand-van-zaken-algemeen/
END:VEVENT
BEGIN:VEVENT
DTSTART;TZID=Europe/Amsterdam:20260504T110000
DTEND;TZID=Europe/Amsterdam:20260504T120000
DTSTAMP:20260420T113916
CREATED:20260415T122446Z
LAST-MODIFIED:20260415T122446Z
UID:10000318-1777892400-1777896000@vnconline.nl
SUMMARY:KLM digitale leden infosessie
DESCRIPTION:Meld je aan voor KLM infosessies\nDe komende tijd organiseren we regelmatig infosessies om jullie bij te praten over de actualiteit en de impact op jouw werk. Tijdens deze sessies is ruimte om vragen te stellen en ervaringen te delen. Wil je aanwezig zijn? Meld je dan aan voor een van onze infosessies via deze link.
URL:https://vnconline.nl/event/klm-digitale-leden-infosessie-2/
END:VEVENT
BEGIN:VEVENT
DTSTART;TZID=Europe/Amsterdam:20260507T100000
DTEND;TZID=Europe/Amsterdam:20260507T170000
DTSTAMP:20260420T113916
CREATED:20251203T161244Z
LAST-MODIFIED:20251203T161244Z
UID:10000294-1778148000-1778173200@vnconline.nl
SUMMARY:KLM Ledenraad
DESCRIPTION:De KLM-Ledenraad bepaalt samen met het KLM-sectiebestuur het uit te voeren beleid. Over cao-wijzigingen wordt door de Ledenraad gestemd. In de Ledenraad zitten gemiddeld 80 raadsleden\, allemaal cabinecollega’s\, gekozen door de KLM-leden van de VNC voor een termijn van drie jaar. De huidige Ledenraad zit tot en met oktober 2027. \nVolg het debat\nBen je KLM-er en VNC-lid\, dan kun je als toehoorder aanwezig zijn bij een ledenvergadering. Stuur een mail om je aan te melden.
URL:https://vnconline.nl/event/klm-ledenraad-29/
END:VEVENT
BEGIN:VEVENT
DTSTART;TZID=Europe/Amsterdam:20260519T133000
DTEND;TZID=Europe/Amsterdam:20260519T143000
DTSTAMP:20260420T113916
CREATED:20260415T122532Z
LAST-MODIFIED:20260415T122532Z
UID:10000319-1779197400-1779201000@vnconline.nl
SUMMARY:KLM digitale leden infosessie
DESCRIPTION:Meld je aan voor KLM infosessies\nDe komende tijd organiseren we regelmatig infosessies om jullie bij te praten over de actualiteit en de impact op jouw werk. Tijdens deze sessies is ruimte om vragen te stellen en ervaringen te delen. Wil je aanwezig zijn? Meld je dan aan voor een van onze infosessies via deze link.
URL:https://vnconline.nl/event/klm-digitale-leden-infosessie-3/
END:VEVENT
BEGIN:VEVENT
DTSTART;TZID=Europe/Amsterdam:20260604T100000
DTEND;TZID=Europe/Amsterdam:20260604T170000
DTSTAMP:20260420T113916
CREATED:20251203T161321Z
LAST-MODIFIED:20251203T161321Z
UID:10000295-1780567200-1780592400@vnconline.nl
SUMMARY:KLM Ledenraad
DESCRIPTION:De KLM-Ledenraad bepaalt samen met het KLM-sectiebestuur het uit te voeren beleid. Over cao-wijzigingen wordt door de Ledenraad gestemd. In de Ledenraad zitten gemiddeld 80 raadsleden\, allemaal cabinecollega’s\, gekozen door de KLM-leden van de VNC voor een termijn van drie jaar. De huidige Ledenraad zit tot en met oktober 2027. \nVolg het debat\nBen je KLM-er en VNC-lid\, dan kun je als toehoorder aanwezig zijn bij een ledenvergadering. Stuur een mail om je aan te melden.
URL:https://vnconline.nl/event/klm-ledenraad-30/
END:VEVENT
BEGIN:VEVENT
DTSTART;TZID=Europe/Amsterdam:20260702T100000
DTEND;TZID=Europe/Amsterdam:20260702T170000
DTSTAMP:20260420T113916
CREATED:20251203T161352Z
LAST-MODIFIED:20251203T161352Z
UID:10000296-1782986400-1783011600@vnconline.nl
SUMMARY:KLM Ledenraad
DESCRIPTION:De KLM-Ledenraad bepaalt samen met het KLM-sectiebestuur het uit te voeren beleid. Over cao-wijzigingen wordt door de Ledenraad gestemd. In de Ledenraad zitten gemiddeld 80 raadsleden\, allemaal cabinecollega’s\, gekozen door de KLM-leden van de VNC voor een termijn van drie jaar. De huidige Ledenraad zit tot en met oktober 2027. \nVolg het debat\nBen je KLM-er en VNC-lid\, dan kun je als toehoorder aanwezig zijn bij een ledenvergadering. Stuur een mail om je aan te melden.
URL:https://vnconline.nl/event/klm-ledenraad-31/
END:VEVENT
BEGIN:VEVENT
DTSTART;TZID=Europe/Amsterdam:20260903T100000
DTEND;TZID=Europe/Amsterdam:20260903T170000
DTSTAMP:20260420T113916
CREATED:20251203T161428Z
LAST-MODIFIED:20251203T161428Z
UID:10000297-1788429600-1788454800@vnconline.nl
SUMMARY:KLM Ledenraad
DESCRIPTION:De KLM-Ledenraad bepaalt samen met het KLM-sectiebestuur het uit te voeren beleid. Over cao-wijzigingen wordt door de Ledenraad gestemd. In de Ledenraad zitten gemiddeld 80 raadsleden\, allemaal cabinecollega’s\, gekozen door de KLM-leden van de VNC voor een termijn van drie jaar. De huidige Ledenraad zit tot en met oktober 2027. \nVolg het debat\nBen je KLM-er en VNC-lid\, dan kun je als toehoorder aanwezig zijn bij een ledenvergadering. Stuur een mail om je aan te melden.
URL:https://vnconline.nl/event/klm-ledenraad-32/
END:VEVENT
BEGIN:VEVENT
DTSTART;TZID=Europe/Amsterdam:20261001T100000
DTEND;TZID=Europe/Amsterdam:20261001T170000
DTSTAMP:20260420T113916
CREATED:20251203T161508Z
LAST-MODIFIED:20251203T161508Z
UID:10000298-1790848800-1790874000@vnconline.nl
SUMMARY:KLM Ledenraad
DESCRIPTION:De KLM-Ledenraad bepaalt samen met het KLM-sectiebestuur het uit te voeren beleid. Over cao- wijzigingen wordt door de Ledenraad gestemd. In de Ledenraad zitten gemiddeld 80 raadsleden\, allemaal cabinecollega’s\, gekozen door de KLM-leden van de VNC voor een termijn van drie jaar. De huidige Ledenraad zit tot en met oktober 2027. \nVolg het debat\nBen je KLM-er en VNC-lid\, dan kun je als toehoorder aanwezig zijn bij een ledenvergadering. Stuur een mail om je aan te melden.
URL:https://vnconline.nl/event/klm-ledenraad-33/
END:VEVENT
BEGIN:VEVENT
DTSTART;TZID=Europe/Amsterdam:20261105T100000
DTEND;TZID=Europe/Amsterdam:20261105T170000
DTSTAMP:20260420T113916
CREATED:20251203T161556Z
LAST-MODIFIED:20251203T161556Z
UID:10000299-1793872800-1793898000@vnconline.nl
SUMMARY:KLM Ledenraad
DESCRIPTION:De KLM-Ledenraad bepaalt samen met het KLM-sectiebestuur het uit te voeren beleid. Over cao-wijzigingen wordt door de Ledenraad gestemd. In de Ledenraad zitten gemiddeld 80 raadsleden\, allemaal cabinecollega’s\, gekozen door de KLM-leden van de VNC voor een termijn van drie jaar. De huidige Ledenraad zit tot en met oktober 2027. \nVolg het debat\nBen je KLM-er en VNC-lid\, dan kun je als toehoorder aanwezig zijn bij een ledenvergadering. Stuur een mail om je aan te melden.
URL:https://vnconline.nl/event/klm-ledenraad-34/
END:VEVENT
BEGIN:VEVENT
DTSTART;TZID=Europe/Amsterdam:20261203T100000
DTEND;TZID=Europe/Amsterdam:20261203T170000
DTSTAMP:20260420T113916
CREATED:20251203T161643Z
LAST-MODIFIED:20251203T161643Z
UID:10000300-1796292000-1796317200@vnconline.nl
SUMMARY:KLM Ledenraad
DESCRIPTION:De KLM-Ledenraad bepaalt samen met het KLM-sectiebestuur het uit te voeren beleid. Over cao-wijzigingen wordt door de Ledenraad gestemd. In de Ledenraad zitten gemiddeld 80 raadsleden\, allemaal cabinecollega’s\, gekozen door de KLM-leden van de VNC voor een termijn van drie jaar. De huidige Ledenraad zit tot en met oktober 2027. \nVolg het debat\nBen je KLM-er en VNC-lid\, dan kun je als toehoorder aanwezig zijn bij een ledenvergadering. Stuur een mail om je aan te melden.
URL:https://vnconline.nl/event/klm-ledenraad-35/
END:VEVENT
END:VCALENDAR